BEGIN:VCALENDAR
VERSION:2.0
PRODID:-//on360.co - ECPv6.10.2//NONSGML v1.0//EN
CALSCALE:GREGORIAN
METHOD:PUBLISH
X-WR-CALNAME:on360.co
X-ORIGINAL-URL:https://on360.co
X-WR-CALDESC:Events for on360.co
REFRESH-INTERVAL;VALUE=DURATION:PT1H
X-Robots-Tag:noindex
X-PUBLISHED-TTL:PT1H
BEGIN:VTIMEZONE
TZID:America/Los_Angeles
BEGIN:DAYLIGHT
TZOFFSETFROM:-0800
TZOFFSETTO:-0700
TZNAME:PDT
DTSTART:20250309T100000
END:DAYLIGHT
BEGIN:STANDARD
TZOFFSETFROM:-0700
TZOFFSETTO:-0800
TZNAME:PST
DTSTART:20251102T090000
END:STANDARD
END:VTIMEZONE
BEGIN:VEVENT
DTSTART;TZID=America/Los_Angeles:20250915T130000
DTEND;TZID=America/Los_Angeles:20250915T143000
DTSTAMP:20260423T043137
CREATED:20250730T235924Z
LAST-MODIFIED:20250805T042441Z
UID:15597-1757941200-1757946600@on360.co
SUMMARY:AI Agent Designer Workshop
DESCRIPTION:AI Agent Designer Workshop\nOctober 15–16\, 2025 | 2.5 Hours per Session | 11:00 AM–1:30 PM EST (Live Virtual) \nBuild Autonomous\, Task-Ready AI Systems \nThe AI Agent Designer Workshop empowers professionals to go beyond simple prompts and build AI agents that reason\, adapt\, and complete tasks across platforms. This hands-on course bridges the gap between theoretical AI use and real-world automation by guiding learners to build functional agents using state-of-the-art tools like ChatGPT Plus\, Claude Pro\, and Make.com. \nWhether you’re optimizing workflows\, automating research\, or creating AI-driven assistants\, this course will show you how to design repeatable\, auditable AI systems that scale. \nWhat You’ll Learn \n\nCore components of an AI agent: reasoning\, tools\, memory\, and control\nHow to pass structured context between LLMs and automation platforms\nWhen and where to use AI agents in business workflows\nHow to integrate GPT and Claude with Make.com for autonomous execution\n\n🔧 Pro Subscriptions Required \n\nChatGPT Plus – $20/month\nClaude Pro (Anthropic) – ~$20/month\nMake.com Core or Pro Plan – $9–$16/month💰 Anticipated Monthly Total: $50–$60/month\n\nThese tools are required to build real\, no-code agents during the course. You’ll receive setup guides and support before the live session. \nAbout the Instructor\nThis course is led by Rudy De La Garza\, Jr.\, CEO of SEOmarketing.com and a seasoned AI systems consultant. Rudy has over 20 years of experience helping teams automate intelligently—from small businesses to enterprise firms. His teaching blends strategy\, tools\, and execution to help learners build reliable AI workflows that enhance productivity without compromising ethics or quality. \nWho Should Attend?\n\nAnalysts\, ops leads\, and marketers building process automation\nTechnologists and AI enthusiasts exploring tool chaining and prompt logic\nProject owners creating AI-powered task managers\, copilots\, or workflows\n\nLearner Outcomes\nBy the end of this course\, you will be able to: \n\nDesign reusable\, no-code AI agents with GPT and Claude\nBuild Make.com automations that trigger agent tasks\nUse memory and tool selection techniques to increase precision\nStructure workflows that combine human and AI decision-making\nLaunch auditable\, scalable agent-based systems\n\nBuild AI Agents That Think\, Act\, and Deliver\nIf you’re ready to go from basic AI usage to scalable systems\, this course will show you how. Register now to take the next step in your AI journey.
URL:https://on360.co/event/ai-agent-designer-workshop/2025-09-15/
CATEGORIES:AI Agent Designer
ATTACH;FMTTYPE=image/png:https://on360.co/wp-content/uploads/2025/07/AI-Agent-Designer-Workshop-On360.co-event-image.png
END:VEVENT
BEGIN:VEVENT
DTSTART;TZID=America/Los_Angeles:20250916T130000
DTEND;TZID=America/Los_Angeles:20250916T143000
DTSTAMP:20260423T043137
CREATED:20250730T235924Z
LAST-MODIFIED:20250805T042441Z
UID:15599-1758027600-1758033000@on360.co
SUMMARY:AI Agent Designer Workshop
DESCRIPTION:AI Agent Designer Workshop\nOctober 15–16\, 2025 | 2.5 Hours per Session | 11:00 AM–1:30 PM EST (Live Virtual) \nBuild Autonomous\, Task-Ready AI Systems \nThe AI Agent Designer Workshop empowers professionals to go beyond simple prompts and build AI agents that reason\, adapt\, and complete tasks across platforms. This hands-on course bridges the gap between theoretical AI use and real-world automation by guiding learners to build functional agents using state-of-the-art tools like ChatGPT Plus\, Claude Pro\, and Make.com. \nWhether you’re optimizing workflows\, automating research\, or creating AI-driven assistants\, this course will show you how to design repeatable\, auditable AI systems that scale. \nWhat You’ll Learn \n\nCore components of an AI agent: reasoning\, tools\, memory\, and control\nHow to pass structured context between LLMs and automation platforms\nWhen and where to use AI agents in business workflows\nHow to integrate GPT and Claude with Make.com for autonomous execution\n\n🔧 Pro Subscriptions Required \n\nChatGPT Plus – $20/month\nClaude Pro (Anthropic) – ~$20/month\nMake.com Core or Pro Plan – $9–$16/month💰 Anticipated Monthly Total: $50–$60/month\n\nThese tools are required to build real\, no-code agents during the course. You’ll receive setup guides and support before the live session. \nAbout the Instructor\nThis course is led by Rudy De La Garza\, Jr.\, CEO of SEOmarketing.com and a seasoned AI systems consultant. Rudy has over 20 years of experience helping teams automate intelligently—from small businesses to enterprise firms. His teaching blends strategy\, tools\, and execution to help learners build reliable AI workflows that enhance productivity without compromising ethics or quality. \nWho Should Attend?\n\nAnalysts\, ops leads\, and marketers building process automation\nTechnologists and AI enthusiasts exploring tool chaining and prompt logic\nProject owners creating AI-powered task managers\, copilots\, or workflows\n\nLearner Outcomes\nBy the end of this course\, you will be able to: \n\nDesign reusable\, no-code AI agents with GPT and Claude\nBuild Make.com automations that trigger agent tasks\nUse memory and tool selection techniques to increase precision\nStructure workflows that combine human and AI decision-making\nLaunch auditable\, scalable agent-based systems\n\nBuild AI Agents That Think\, Act\, and Deliver\nIf you’re ready to go from basic AI usage to scalable systems\, this course will show you how. Register now to take the next step in your AI journey.
URL:https://on360.co/event/ai-agent-designer-workshop/2025-09-16/
CATEGORIES:AI Agent Designer
ATTACH;FMTTYPE=image/png:https://on360.co/wp-content/uploads/2025/07/AI-Agent-Designer-Workshop-On360.co-event-image.png
END:VEVENT
END:VCALENDAR