BEGIN:VCALENDAR
VERSION:2.0
PRODID:-//on360.co - ECPv6.10.2//NONSGML v1.0//EN
CALSCALE:GREGORIAN
METHOD:PUBLISH
X-ORIGINAL-URL:https://on360.co
X-WR-CALDESC:Events for on360.co
REFRESH-INTERVAL;VALUE=DURATION:PT1H
X-Robots-Tag:noindex
X-PUBLISHED-TTL:PT1H
BEGIN:VTIMEZONE
TZID:America/Halifax
BEGIN:DAYLIGHT
TZOFFSETFROM:-0400
TZOFFSETTO:-0300
TZNAME:ADT
DTSTART:20230312T060000
END:DAYLIGHT
BEGIN:STANDARD
TZOFFSETFROM:-0300
TZOFFSETTO:-0400
TZNAME:AST
DTSTART:20231105T050000
END:STANDARD
BEGIN:DAYLIGHT
TZOFFSETFROM:-0400
TZOFFSETTO:-0300
TZNAME:ADT
DTSTART:20240310T060000
END:DAYLIGHT
BEGIN:STANDARD
TZOFFSETFROM:-0300
TZOFFSETTO:-0400
TZNAME:AST
DTSTART:20241103T050000
END:STANDARD
END:VTIMEZONE
BEGIN:VEVENT
DTSTART;TZID=America/Halifax:20240306T150000
DTEND;TZID=America/Halifax:20240306T160000
DTSTAMP:20260422T192011
CREATED:20240212T204429Z
LAST-MODIFIED:20240215T135835Z
UID:13611-1709737200-1709740800@on360.co
SUMMARY:Web3 Information Session March 6 2024
DESCRIPTION:Web3 Information Session March 6 2024\nAttend this event to put on you on the right path\nLIVE Online – Zoom Event\nWednesday \n3:00 PM to 4:00 PM Eastern Time\n\nTime Zones\, starting:\n\n12:00 PM Pacific Time\n7:00 PM GMT\n\n\n\nZOOM REGISTRATION LINK\nRegister for the Web3 Information Session to learn more about blockchain or distributed ledger technologies (DLTs)\, powering NFTs\, Smart Contracts\, DAOs (Distributed Autonomous Organizations)\, and DApps (Decentralized Applications).  Additionally\, we’ll discuss skills and career pathways for AI\, the Internet of Things (IoT)\, Machine Learning\, and other emerging web3 technologies. Educate yourself on the importance of this technology and how it impacts most aspects of business\, and existing professions\, including Law\, Accounting\, Finance\, Insurance\, Supply Chain\, Real Estate\, Healthcare\, Energy and nearly all other industries and professions. Understand the competing protocols\, including Bitcoin\, Ethereum\, Corda\, Linux Hyperledger Fabric\, Cardano\, NEAR\, Hedera Hashgraph\, Algorand and many more. \nTake this time to determine if learning more about this technology helps your career\, team\, or product. \n\nLearn a high-level overview of blockchain technology\, AI\, and other Web3 tech.\nUnderstand its impact across all industries the internet touches.\nDiscover the job opportunities and the skills achieving high pay (10% to 40% increase!)\nFind events to attend:\n\nLive AMA Sessions (Ask-Me-Anything)\nRegularly scheduled live instructor-led workshops for most courses (monthly)\nWeb3 Pitch Competitions\nCrypto Trading Competition using a tier-one investment bank trading simulator\nDiscover how to participate in Hackathons\n\n\n\nYour Outcomes should you enroll:\n\nCertificate of Complete – NFT Certificate hosted on the blockchain\nAchieve Certifications from the Web3 Certification Board.\nNFT Digital Badges for Certification and Microcredential achieved\nTake your knowledge and skill to invest in cryptocurrencies responsibly – “Never invest in a business you cannot understand\,” Warren Buffet once said.\nLand a new high-paying web3 job – Web3 provides a 10% to 40% increase in salary.\nBuild your portfolio with Gig-Work\nUpskill for your existing job and transition your team\n\nWhenever you join\, the most important thing you can do is make friends with others in the community\, your web3 network. People make technologies that can change the world. No one makes a significant dent all by themselves. We hope you decide to join. Learn more. \n  \nCertifying Body Partner: Web3 Certification Board \n\n  \nReview Certification Career Track \n\n\n\n Add to calendar
URL:https://on360.co/event/web3-information-session-march-6-2024/
LOCATION:ZOOM
CATEGORIES:Blockchain Information Session
END:VEVENT
BEGIN:VEVENT
DTSTART;TZID=America/Halifax:20240228T150000
DTEND;TZID=America/Halifax:20240228T160000
DTSTAMP:20260422T192011
CREATED:20240212T204129Z
LAST-MODIFIED:20240215T135749Z
UID:13609-1709132400-1709136000@on360.co
SUMMARY:Web3 Information Session February 28 2024
DESCRIPTION:Web3 Information Session February 28 2024\nAttend this event to put on you on the right path\nLIVE Online – Zoom Event\nWednesday \n3:00 PM to 4:00 PM Eastern Time\n\nTime Zones\, starting:\n\n12:00 PM Pacific Time\n7:00 PM GMT\n\n\n\nZOOM REGISTRATION LINK\nRegister for the Web3 Information Session to learn more about blockchain or distributed ledger technologies (DLTs)\, powering NFTs\, Smart Contracts\, DAOs (Distributed Autonomous Organizations)\, and DApps (Decentralized Applications).  Additionally\, we’ll discuss skills and career pathways for AI\, the Internet of Things (IoT)\, Machine Learning\, and other emerging web3 technologies. Educate yourself on the importance of this technology and how it impacts most aspects of business\, and existing professions\, including Law\, Accounting\, Finance\, Insurance\, Supply Chain\, Real Estate\, Healthcare\, Energy and nearly all other industries and professions. Understand the competing protocols\, including Bitcoin\, Ethereum\, Corda\, Linux Hyperledger Fabric\, Cardano\, NEAR\, Hedera Hashgraph\, Algorand and many more. \nTake this time to determine if learning more about this technology helps your career\, team\, or product. \n\nLearn a high-level overview of blockchain technology\, AI\, and other Web3 tech.\nUnderstand its impact across all industries the internet touches.\nDiscover the job opportunities and the skills achieving high pay (10% to 40% increase!)\nFind events to attend:\n\nLive AMA Sessions (Ask-Me-Anything)\nRegularly scheduled live instructor-led workshops for most courses (monthly)\nWeb3 Pitch Competitions\nCrypto Trading Competition using a tier-one investment bank trading simulator\nDiscover how to participate in Hackathons\n\n\n\nYour Outcomes should you enroll:\n\nCertificate of Complete – NFT Certificate hosted on the blockchain\nAchieve Certifications from the Web3 Certification Board.\nNFT Digital Badges for Certification and Microcredential achieved\nTake your knowledge and skill to invest in cryptocurrencies responsibly – “Never invest in a business you cannot understand\,” Warren Buffet once said.\nLand a new high-paying web3 job – Web3 provides a 10% to 40% increase in salary.\nBuild your portfolio with Gig-Work\nUpskill for your existing job and transition your team\n\nWhenever you join\, the most important thing you can do is make friends with others in the community\, your web3 network. People make technologies that can change the world. No one makes a significant dent all by themselves. We hope you decide to join. Learn more. \n  \nCertifying Body Partner: Web3 Certification Board \n\n  \nReview Certification Career Track \n\n\n\n Add to calendar
URL:https://on360.co/event/web3-information-session-february-28-2024/
LOCATION:ZOOM
CATEGORIES:Blockchain Information Session
END:VEVENT
BEGIN:VEVENT
DTSTART;TZID=America/Halifax:20240221T150000
DTEND;TZID=America/Halifax:20240221T160000
DTSTAMP:20260422T192011
CREATED:20240212T203410Z
LAST-MODIFIED:20240215T135626Z
UID:13607-1708527600-1708531200@on360.co
SUMMARY:Web3 Information Session February 21 2024
DESCRIPTION:Web3 Information Session February 21 2024\nAttend this event to put on you on the right path\nLIVE Online – Zoom Event\nWednesday \n3:00 PM to 4:00 PM Eastern Time\n\nTime Zones\, starting:\n\n12:00 PM Pacific Time\n7:00 PM GMT\n\n\n\nZOOM REGISTRATION LINK\nRegister for the Web3 Information Session to learn more about blockchain or distributed ledger technologies (DLTs)\, powering NFTs\, Smart Contracts\, DAOs (Distributed Autonomous Organizations)\, and DApps (Decentralized Applications).  Additionally\, we’ll discuss skills and career pathways for AI\, the Internet of Things (IoT)\, Machine Learning\, and other emerging web3 technologies. Educate yourself on the importance of this technology and how it impacts most aspects of business\, and existing professions\, including Law\, Accounting\, Finance\, Insurance\, Supply Chain\, Real Estate\, Healthcare\, Energy and nearly all other industries and professions. Understand the competing protocols\, including Bitcoin\, Ethereum\, Corda\, Linux Hyperledger Fabric\, Cardano\, NEAR\, Hedera Hashgraph\, Algorand and many more. \nTake this time to determine if learning more about this technology helps your career\, team\, or product. \n\nLearn a high-level overview of blockchain technology\, AI\, and other Web3 tech.\nUnderstand its impact across all industries the internet touches.\nDiscover the job opportunities and the skills achieving high pay (10% to 40% increase!)\nFind events to attend:\n\nLive AMA Sessions (Ask-Me-Anything)\nRegularly scheduled live instructor-led workshops for most courses (monthly)\nWeb3 Pitch Competitions\nCrypto Trading Competition using a tier-one investment bank trading simulator\nDiscover how to participate in Hackathons\n\n\n\nYour Outcomes should you enroll:\n\nCertificate of Complete – NFT Certificate hosted on the blockchain\nAchieve Certifications from the Web3 Certification Board.\nNFT Digital Badges for Certification and Microcredential achieved\nTake your knowledge and skill to invest in cryptocurrencies responsibly – “Never invest in a business you cannot understand\,” Warren Buffet once said.\nLand a new high-paying web3 job – Web3 provides a 10% to 40% increase in salary.\nBuild your portfolio with Gig-Work\nUpskill for your existing job and transition your team\n\nWhenever you join\, the most important thing you can do is make friends with others in the community\, your web3 network. People make technologies that can change the world. No one makes a significant dent all by themselves. We hope you decide to join. Learn more. \n  \nCertifying Body Partner: Web3 Certification Board \n\n  \nReview Certification Career Track \n\n\n\n Add to calendar
URL:https://on360.co/event/web3-information-session-february-21-2024/
LOCATION:ZOOM
CATEGORIES:Blockchain Information Session
END:VEVENT
BEGIN:VEVENT
DTSTART;TZID=America/Halifax:20240214T150000
DTEND;TZID=America/Halifax:20240214T160000
DTSTAMP:20260422T192011
CREATED:20240212T203237Z
LAST-MODIFIED:20240215T135350Z
UID:13605-1707922800-1707926400@on360.co
SUMMARY:Web3 Information Session February 14 2024
DESCRIPTION:Web3 Information Session February 14 2024\nAttend this event to put on you on the right path\nLIVE Online – Zoom Event\nWednesday \n3:00 PM to 4:00 PM Eastern Time\n\nTime Zones\, starting:\n\n12:00 PM Pacific Time\n7:00 PM GMT\n\n\n\nZOOM REGISTRATION LINK\nRegister for the Web3 Information Session to learn more about blockchain or distributed ledger technologies (DLTs)\, powering NFTs\, Smart Contracts\, DAOs (Distributed Autonomous Organizations)\, and DApps (Decentralized Applications).  Additionally\, we’ll discuss skills and career pathways for AI\, the Internet of Things (IoT)\, Machine Learning\, and other emerging web3 technologies. Educate yourself on the importance of this technology and how it impacts most aspects of business\, and existing professions\, including Law\, Accounting\, Finance\, Insurance\, Supply Chain\, Real Estate\, Healthcare\, Energy and nearly all other industries and professions. Understand the competing protocols\, including Bitcoin\, Ethereum\, Corda\, Linux Hyperledger Fabric\, Cardano\, NEAR\, Hedera Hashgraph\, Algorand and many more. \nTake this time to determine if learning more about this technology helps your career\, team\, or product. \n\nLearn a high-level overview of blockchain technology\, AI\, and other Web3 tech.\nUnderstand its impact across all industries the internet touches.\nDiscover the job opportunities and the skills achieving high pay (10% to 40% increase!)\nFind events to attend:\n\nLive AMA Sessions (Ask-Me-Anything)\nRegularly scheduled live instructor-led workshops for most courses (monthly)\nWeb3 Pitch Competitions\nCrypto Trading Competition using a tier-one investment bank trading simulator\nDiscover how to participate in Hackathons\n\n\n\nYour Outcomes should you enroll:\n\nCertificate of Complete – NFT Certificate hosted on the blockchain\nAchieve Certifications from the Web3 Certification Board.\nNFT Digital Badges for Certification and Microcredential achieved\nTake your knowledge and skill to invest in cryptocurrencies responsibly – “Never invest in a business you cannot understand\,” Warren Buffet once said.\nLand a new high-paying web3 job – Web3 provides a 10% to 40% increase in salary.\nBuild your portfolio with Gig-Work\nUpskill for your existing job and transition your team\n\nWhenever you join\, the most important thing you can do is make friends with others in the community\, your web3 network. People make technologies that can change the world. No one makes a significant dent all by themselves. We hope you decide to join. Learn more. \n  \nCertifying Body Partner: Web3 Certification Board \n\n  \nReview Certification Career Track \n\n\n\n Add to calendar
URL:https://on360.co/event/web3-information-session-february-14-2024/
LOCATION:ZOOM
CATEGORIES:Blockchain Information Session
END:VEVENT
BEGIN:VEVENT
DTSTART;TZID=America/Halifax:20230906T150000
DTEND;TZID=America/Halifax:20230906T160000
DTSTAMP:20260422T192011
CREATED:20230804T030141Z
LAST-MODIFIED:20230804T032441Z
UID:12686-1694012400-1694016000@on360.co
SUMMARY:Web3 Information Session
DESCRIPTION:Web3 Information Session\nAttend this event to put on you on the right path\nLIVE Online – Zoom Event\nWednesday \n3:00 PM to 4:00 PM Eastern Time\n\nTime Zones\, starting:\n\n12:00 PM Pacific Time\n7:00 PM GMT\n\n\n\nZOOM REGISTRATION LINK\nRegister for the Web3 Information Session to learn more about blockchain or distributed ledger technologies (DLTs)\, powering NFTs\, Smart Contracts\, DAOs (Distributed Autonomous Organizations)\, and DApps (Decentralized Applications).  Additionally\, we’ll discuss skills and career pathways for AI\, the Internet of Things (IoT)\, Machine Learning\, and other emerging web3 technologies. Educate yourself on the importance of this technology and how it impacts most aspects of business\, and existing professions\, including Law\, Accounting\, Finance\, Insurance\, Supply Chain\, Real Estate\, Healthcare\, Energy and nearly all other industries and professions. Understand the competing protocols\, including Bitcoin\, Ethereum\, Corda\, Linux Hyperledger Fabric\, Cardano\, NEAR\, Hedera Hashgraph\, Algorand and many more. \nTake this time to determine if learning more about this technology helps your career\, team\, or product. \n\nLearn a high-level overview of blockchain technology\, AI\, and other Web3 tech.\nUnderstand its impact across all industries the internet touches.\nDiscover the job opportunities and the skills achieving high pay (10% to 40% increase!)\nFind events to attend:\n\nLive AMA Sessions (Ask-Me-Anything)\nRegularly scheduled live instructor-led workshops for most courses (monthly)\nWeb3 Pitch Competitions\nCrypto Trading Competition using a tier-one investment bank trading simulator\nDiscover how to participate in Hackathons\n\n\n\nYour Outcomes should you enroll:\n\nCertificate of Complete – NFT Certificate hosted on the blockchain\nAchieve Certifications from the Web3 Certification Board.\nNFT Digital Badges for Certification and Microcredential achieved\nTake your knowledge and skill to invest in cryptocurrencies responsibly – “Never invest in a business you cannot understand\,” Warren Buffet once said.\nLand a new high-paying web3 job – Web3 provides a 10% to 40% increase in salary.\nBuild your portfolio with Gig-Work\nUpskill for your existing job and transition your team\n\nWhenever you join\, the most important thing you can do is make friends with others in the community\, your web3 network. People make technologies that can change the world. No one makes a significant dent all by themselves. We hope you decide to join. Learn more. \n  \nCertifying Body Partner: Web3 Certification Board \n\n  \nReview Certification Career Track \n\n\n\n Add to calendar
URL:https://on360.co/event/2023-09-06/
LOCATION:ZOOM
CATEGORIES:Blockchain Information Session
END:VEVENT
END:VCALENDAR