BEGIN:VCALENDAR
VERSION:2.0
PRODID:-//on360.co - ECPv6.10.2//NONSGML v1.0//EN
CALSCALE:GREGORIAN
METHOD:PUBLISH
X-ORIGINAL-URL:https://on360.co
X-WR-CALDESC:Events for on360.co
REFRESH-INTERVAL;VALUE=DURATION:PT1H
X-Robots-Tag:noindex
X-PUBLISHED-TTL:PT1H
BEGIN:VTIMEZONE
TZID:America/Halifax
BEGIN:DAYLIGHT
TZOFFSETFROM:-0400
TZOFFSETTO:-0300
TZNAME:ADT
DTSTART:20250309T060000
END:DAYLIGHT
BEGIN:STANDARD
TZOFFSETFROM:-0300
TZOFFSETTO:-0400
TZNAME:AST
DTSTART:20251102T050000
END:STANDARD
END:VTIMEZONE
BEGIN:VEVENT
DTSTART;TZID=America/Halifax:20250919T110000
DTEND;TZID=America/Halifax:20250919T140000
DTSTAMP:20260420T021801
CREATED:20250716T200032Z
LAST-MODIFIED:20250131T014452Z
UID:14851-1758279600-1758290400@on360.co
SUMMARY:Blockchain Security Workshop LIVE
DESCRIPTION:Friday | 3 Hours | 11:00 am to 2:00 pm EST (8:00 am PT / 3:00 pm GMT)\nBlockchain Security Workshop LIVE\nThe Blockchain Security workshop is a live instructor-led event for you to attend following the completion of your Blockchain Security and Smart Contract Security Courses. \nLive instruction will provide a further grasp of decentralized platforms for data processing and storage. However\, blockchain-based platforms are only useful if they are secure. Enroll in this course to learn about the potential vulnerabilities and security risks that exist at each level of the blockchain ecosystem. \nUnleash the potential of blockchain technology with our Blockchain Security Live Workshop. This engaging\, hands-on course is your gateway to mastering the complex world of blockchain security. \nWe review Key Management digging into the specifics of blockchain security\, spotlighting key generation\, management\, storage\, and potential risks. \nIn our Blockchain Security module\, we expand on security fundamentals\, delving into cryptography\, hash functions\, and public key systems. We examine the security aspects of consensus models\, delve into advanced architectural security\, and present an introduction to smart contract security and programming vulnerabilities. \nFinally\, our Smart Contract Security module rounds off the workshop with insights into general programming\, blockchain\, and Ethereum-specific vulnerabilities. \n  \nThe Certified Blockchain Security Professional career track prepares you to take and pass the W3CB Blockchain Security Professional Level 2 Certification from the Web3 Certification Board (W3CB).  Review the security exam focus area and exam competencies.
URL:https://on360.co/event/blockchain-security-workshop-live-5/
LOCATION:ZOOM
CATEGORIES:Blockchain Security
ATTACH;FMTTYPE=image/png:https://on360.co/wp-content/uploads/2023/08/Smart-Contract-and-Blockchain-Security-Live-Workshop-featured-image.png
END:VEVENT
END:VCALENDAR